BEGIN:VCALENDAR
VERSION:2.0
PRODID:-//Norwalk Democratic Town Committee - ECPv5.1.6//NONSGML v1.0//EN
CALSCALE:GREGORIAN
METHOD:PUBLISH
X-WR-CALNAME:Norwalk Democratic Town Committee
X-ORIGINAL-URL:https://www.norwalkdemocraticparty.com
X-WR-CALDESC:Events for Norwalk Democratic Town Committee
BEGIN:VTIMEZONE
TZID:America/New_York
BEGIN:DAYLIGHT
TZOFFSETFROM:-0500
TZOFFSETTO:-0400
TZNAME:EDT
DTSTART:20190310T070000
END:DAYLIGHT
BEGIN:STANDARD
TZOFFSETFROM:-0400
TZOFFSETTO:-0500
TZNAME:EST
DTSTART:20191103T060000
END:STANDARD
END:VTIMEZONE
BEGIN:VEVENT
DTSTART;TZID=America/New_York:20190913T173000
DTEND;TZID=America/New_York:20190913T193000
DTSTAMP:20260421T135802
CREATED:20190821T202041Z
LAST-MODIFIED:20190821T202041Z
UID:1617-1568395800-1568403000@www.norwalkdemocraticparty.com
SUMMARY:2nd Annual Drinks with Dems Fundraiser
DESCRIPTION:
URL:https://www.norwalkdemocraticparty.com/event/2nd-annual-drinks-with-dems-fundraiser/
LOCATION:Fodor Farm\, 328 Flax Hill Road\, Norwalk\, CT\, 06854\, United States
CATEGORIES:Fundraisers
ATTACH;FMTTYPE=image/png:https://www.norwalkdemocraticparty.com/wp-content/uploads/2019/08/Drinks-with-Dems-Invitation-doc-2-1.png
END:VEVENT
END:VCALENDAR