BEGIN:VCALENDAR
VERSION:2.0
PRODID:-//Norwalk Democratic Town Committee - ECPv5.1.6//NONSGML v1.0//EN
CALSCALE:GREGORIAN
METHOD:PUBLISH
X-WR-CALNAME:Norwalk Democratic Town Committee
X-ORIGINAL-URL:https://www.norwalkdemocraticparty.com
X-WR-CALDESC:Events for Norwalk Democratic Town Committee
BEGIN:VTIMEZONE
TZID:America/New_York
BEGIN:DAYLIGHT
TZOFFSETFROM:-0500
TZOFFSETTO:-0400
TZNAME:EDT
DTSTART:20170312T070000
END:DAYLIGHT
BEGIN:STANDARD
TZOFFSETFROM:-0400
TZOFFSETTO:-0500
TZNAME:EST
DTSTART:20171105T060000
END:STANDARD
END:VTIMEZONE
BEGIN:VEVENT
DTSTART;TZID=America/New_York:20170606T170000
DTEND;TZID=America/New_York:20170606T200000
DTSTAMP:20260422T045618
CREATED:20170502T031238Z
LAST-MODIFIED:20170502T031238Z
UID:1242-1496768400-1496779200@www.norwalkdemocraticparty.com
SUMMARY:An Evening With Alyssa Mastromonaco
DESCRIPTION:BLUF (Bottom Line Up Front)\nPresident Obama’s Deputy Chief of Staff will provide her insights on working in the White House\, turning political activism into a career\, and inspiring young women in today’s society.\nWednesday\, June 7\, 2017 at North Haven High School\nDoors Open at 5:00pm\, Event Starts at 6:00pm\nFREE (you must RSVP below)\nReserved Seating if you pre-order her book to sign that night. \nThe incomparable Alyssa Mastromonaco will be stopping by North Haven to chat with you in an event brought to you by the North Haven Democratic Town Committee\, as part of our “Activism Academy.” She will also be signing copies of her new book\, Who Thought This Was a Good Idea? \nThis FREE lecture is a “do not miss” event for young women getting involved in politics and seasoned political operatives interested in how one of the “most powerful” women in Washington turned an internship with Bernie Sanders and a scheduling job for John Kerry into a staff job with a young Senator from Chicago on his way to the White House. \nWe will be taking audience questions\, so if you have a question for Ms. Mastromonaco\, please include it in the RSVP form when you reserve your ticket. \nRSVP HERE: http://northhavendemocrats.org/alyssa-mastromonaco-event \nRSVP on Facebook here: https://www.facebook.com/events/148911778978714/ \n 
URL:https://www.norwalkdemocraticparty.com/event/an-evening-with-alyssa-mastromonaco/
LOCATION:North Haven High School\, 221 Elm St\, North Haven\, CT\, 06473\, United States
END:VEVENT
END:VCALENDAR