BEGIN:VCALENDAR
VERSION:2.0
PRODID:-//Norwalk Democratic Town Committee - ECPv5.1.6//NONSGML v1.0//EN
CALSCALE:GREGORIAN
METHOD:PUBLISH
X-WR-CALNAME:Norwalk Democratic Town Committee
X-ORIGINAL-URL:https://www.norwalkdemocraticparty.com
X-WR-CALDESC:Events for Norwalk Democratic Town Committee
BEGIN:VTIMEZONE
TZID:America/New_York
BEGIN:DAYLIGHT
TZOFFSETFROM:-0500
TZOFFSETTO:-0400
TZNAME:EDT
DTSTART:20220313T070000
END:DAYLIGHT
BEGIN:STANDARD
TZOFFSETFROM:-0400
TZOFFSETTO:-0500
TZNAME:EST
DTSTART:20221106T060000
END:STANDARD
END:VTIMEZONE
BEGIN:VEVENT
DTSTART;TZID=America/New_York:20220523T183000
DTEND;TZID=America/New_York:20220523T193000
DTSTAMP:20260421T121552
CREATED:20220522T142419Z
LAST-MODIFIED:20220522T142419Z
UID:1922-1653330600-1653334200@www.norwalkdemocraticparty.com
SUMMARY:May DTC Meeting
DESCRIPTION:Join us for our May DTC meeting \nWe will vote for single town seats \n137 \n140 \nRegistrar of Voters
URL:https://www.norwalkdemocraticparty.com/event/may-dtc-meeting/
END:VEVENT
END:VCALENDAR