BEGIN:VCALENDAR
VERSION:2.0
PRODID:-//Norwalk Democratic Town Committee - ECPv5.1.6//NONSGML v1.0//EN
CALSCALE:GREGORIAN
METHOD:PUBLISH
X-WR-CALNAME:Norwalk Democratic Town Committee
X-ORIGINAL-URL:https://www.norwalkdemocraticparty.com
X-WR-CALDESC:Events for Norwalk Democratic Town Committee
BEGIN:VTIMEZONE
TZID:America/New_York
BEGIN:DAYLIGHT
TZOFFSETFROM:-0500
TZOFFSETTO:-0400
TZNAME:EDT
DTSTART:20170312T070000
END:DAYLIGHT
BEGIN:STANDARD
TZOFFSETFROM:-0400
TZOFFSETTO:-0500
TZNAME:EST
DTSTART:20171105T060000
END:STANDARD
END:VTIMEZONE
BEGIN:VEVENT
DTSTART;TZID=America/New_York:20170926T160000
DTEND;TZID=America/New_York:20170926T180000
DTSTAMP:20260422T031916
CREATED:20170920T212523Z
LAST-MODIFIED:20170920T212523Z
UID:1321-1506441600-1506448800@www.norwalkdemocraticparty.com
SUMMARY:National Voter Registration Day Event
DESCRIPTION:The League of Women Voters and the Democratic and Republican Registrar of Voters are presenting a voter Registration/Education event.  Come and see how a Tabulator is set up and how it works.  See how the handicapped assistance machines are set up and how they work.  Find out what you need to present for Id when you vote\, who is allowed into a polling place\, what they can wear\, what they can bring with then and how they must act.  Ask any question you have.  Everyone of all ages are welcome!
URL:https://www.norwalkdemocraticparty.com/event/national-voter-registration-day-event/
LOCATION:Norwalk City Hall – Community Room\, 125 East Ave\, Norwalk\, CT\, 06851\, United States
END:VEVENT
END:VCALENDAR