BEGIN:VCALENDAR
VERSION:2.0
PRODID:-//Norwalk Democratic Town Committee - ECPv5.1.6//NONSGML v1.0//EN
CALSCALE:GREGORIAN
METHOD:PUBLISH
X-WR-CALNAME:Norwalk Democratic Town Committee
X-ORIGINAL-URL:https://www.norwalkdemocraticparty.com
X-WR-CALDESC:Events for Norwalk Democratic Town Committee
BEGIN:VTIMEZONE
TZID:America/New_York
BEGIN:DAYLIGHT
TZOFFSETFROM:-0500
TZOFFSETTO:-0400
TZNAME:EDT
DTSTART:20180311T070000
END:DAYLIGHT
BEGIN:STANDARD
TZOFFSETFROM:-0400
TZOFFSETTO:-0500
TZNAME:EST
DTSTART:20181104T060000
END:STANDARD
END:VTIMEZONE
BEGIN:VEVENT
DTSTART;TZID=America/New_York:20180820T193000
DTEND;TZID=America/New_York:20180820T193000
DTSTAMP:20260421T115930
CREATED:20180610T150648Z
LAST-MODIFIED:20180815T191526Z
UID:1427-1534793400-1534793400@www.norwalkdemocraticparty.com
SUMMARY:NDTC Monthly Meeting
DESCRIPTION:
URL:https://www.norwalkdemocraticparty.com/event/ndtc-monthly-meeting-8/
LOCATION:Norwalk HQs\, 43 North Main Street\, Norwalk\, CT\, 06854\, United States
CATEGORIES:NDTC Meetings
END:VEVENT
END:VCALENDAR