BEGIN:VCALENDAR
VERSION:2.0
PRODID:-//Norwalk Democratic Town Committee - ECPv5.1.6//NONSGML v1.0//EN
CALSCALE:GREGORIAN
METHOD:PUBLISH
X-WR-CALNAME:Norwalk Democratic Town Committee
X-ORIGINAL-URL:https://www.norwalkdemocraticparty.com
X-WR-CALDESC:Events for Norwalk Democratic Town Committee
BEGIN:VTIMEZONE
TZID:America/New_York
BEGIN:DAYLIGHT
TZOFFSETFROM:-0500
TZOFFSETTO:-0400
TZNAME:EDT
DTSTART:20220313T070000
END:DAYLIGHT
BEGIN:STANDARD
TZOFFSETFROM:-0400
TZOFFSETTO:-0500
TZNAME:EST
DTSTART:20221106T060000
END:STANDARD
END:VTIMEZONE
BEGIN:VEVENT
DTSTART;TZID=America/New_York:20221022T143000
DTEND;TZID=America/New_York:20221022T163000
DTSTAMP:20260421T121753
CREATED:20221015T142206Z
LAST-MODIFIED:20221015T142206Z
UID:1950-1666449000-1666456200@www.norwalkdemocraticparty.com
SUMMARY:Norwalk DTC Fall Fundraiser
DESCRIPTION:Join Norwalk Democrats and invited elected officials for our Fall Fundraiser! Saturday Oct 22\, 2:30-4:30pm. RSVP here: https://www.mobilize.us/norwalkdemocrats/event/529240/ \nCatch up with Dems\, get ready for election day\, and pick up your lawn signs if you haven’t yet! \nDonation link for event will be added shortly but you can always donate to the DTC at this link: https://daycampaign.com/Donation/Index/392 \nSuggested Donations for Individuals: $30 Let’s Go Dems! \n$50- Proud Democrat \n$100- Row A ALL The Way! \n$250- Blue Wave Baby! \n$500- I’m in it to win it! \n$2\,000- I’m maxing out for 2022\, see you in 2023! (only for individuals who haven’t donated to DTC yet in 2022. Contribution limit for a calendar year is $2\,000) \nQuestions? Email us: norwalkctdtc@gmail.com
URL:https://www.norwalkdemocraticparty.com/event/norwalk-dtc-fall-fundraiser/
END:VEVENT
END:VCALENDAR