BEGIN:VCALENDAR
VERSION:2.0
PRODID:-//Norwalk Democratic Town Committee - ECPv5.1.6//NONSGML v1.0//EN
CALSCALE:GREGORIAN
METHOD:PUBLISH
X-WR-CALNAME:Norwalk Democratic Town Committee
X-ORIGINAL-URL:https://www.norwalkdemocraticparty.com
X-WR-CALDESC:Events for Norwalk Democratic Town Committee
BEGIN:VTIMEZONE
TZID:America/New_York
BEGIN:DAYLIGHT
TZOFFSETFROM:-0500
TZOFFSETTO:-0400
TZNAME:EDT
DTSTART:20170312T070000
END:DAYLIGHT
BEGIN:STANDARD
TZOFFSETFROM:-0400
TZOFFSETTO:-0500
TZNAME:EST
DTSTART:20171105T060000
END:STANDARD
END:VTIMEZONE
BEGIN:VEVENT
DTSTART;TZID=America/New_York:20171016T190000
DTEND;TZID=America/New_York:20171016T190000
DTSTAMP:20260422T032151
CREATED:20171006T154210Z
LAST-MODIFIED:20171006T154336Z
UID:1324-1508180400-1508180400@www.norwalkdemocraticparty.com
SUMMARY:October DTC Monthly Meeting
DESCRIPTION:RSVP on facebook here: \nhttps://www.facebook.com/events/1130273813776294 \n  \nPLEASE NOTE: \nBecause dates of the 2017 Norwalk Candidate Forums conflict with our usual dates the NDTC Meeting has been moved to Democratic Headquarters on October 16 so that members can attend the debates.\n2017 City of Norwalk Candidates’ Forums \nCommon Council — October 23rd at 7:9\nBoard of Education — October 29th at 7-9 PM\nMayoral — October 30th at 7:9:00 PM\nAGENDA\nRoll Call\nApproval of Minutes\n(See September18th minutes below)\nReports\nTreasurer – Chair\nLegislature – Common Council\nBoard of Education – District Updates\nMayor’s Progress Report\n**************************************************** \nVolunteers needed to help with the\n2017 Municipal Elections\nPhone Banking\nDoor Knocking\n*************************************\nFundraising report and activity\n************************************** \nOld Business — New Business\n**************************************
URL:https://www.norwalkdemocraticparty.com/event/october-dtc-monthly-meeting/
LOCATION:Democratic HQ\, 43 Main Street\, Norwalk\, Connecticut\, 06854
END:VEVENT
END:VCALENDAR