BEGIN:VCALENDAR
VERSION:2.0
PRODID:-//Norwalk Democratic Town Committee - ECPv5.1.6//NONSGML v1.0//EN
CALSCALE:GREGORIAN
METHOD:PUBLISH
X-WR-CALNAME:Norwalk Democratic Town Committee
X-ORIGINAL-URL:https://www.norwalkdemocraticparty.com
X-WR-CALDESC:Events for Norwalk Democratic Town Committee
BEGIN:VTIMEZONE
TZID:America/New_York
BEGIN:DAYLIGHT
TZOFFSETFROM:-0500
TZOFFSETTO:-0400
TZNAME:EDT
DTSTART:20170312T070000
END:DAYLIGHT
BEGIN:STANDARD
TZOFFSETFROM:-0400
TZOFFSETTO:-0500
TZNAME:EST
DTSTART:20171105T060000
END:STANDARD
END:VTIMEZONE
BEGIN:VEVENT
DTSTART;TZID=America/New_York:20170913T180000
DTEND;TZID=America/New_York:20170913T210000
DTSTAMP:20260422T045851
CREATED:20170913T021344Z
LAST-MODIFIED:20170913T021344Z
UID:1298-1505325600-1505336400@www.norwalkdemocraticparty.com
SUMMARY:Pizza and Phone Bank Party
DESCRIPTION:Political campaigns are a costly business and the NDTC must depend on financial donations to help elect and  re-elect all our Democratic candidates in the upcoming Municipal elections. \nUnfortunately\, donations don’t just fall out of the sky\, we must ask for them! That’s why we need you to volunteer to make calls at either of the two phone banking events listed above. \nPhone banks are the most efficient\, and fun\, way to connect with donors\, discuss their issues and explain why their financial help is a vital part of addressing those issues. \nMore than ever before we must defend our democratic principles – your help as a volunteer is an essential part of that defense! \nDon’t wake up on November 7th and find out that you could have made a difference – with just a few phone calls!
URL:https://www.norwalkdemocraticparty.com/event/pizza-and-phone-bank-party/
LOCATION:Democratic HQ\, 43 Main Street\, Norwalk\, Connecticut\, 06854
CATEGORIES:Volunteering Events
END:VEVENT
END:VCALENDAR