BEGIN:VCALENDAR
VERSION:2.0
PRODID:-//Norwalk Democratic Town Committee - ECPv5.1.6//NONSGML v1.0//EN
CALSCALE:GREGORIAN
METHOD:PUBLISH
X-WR-CALNAME:Norwalk Democratic Town Committee
X-ORIGINAL-URL:https://www.norwalkdemocraticparty.com
X-WR-CALDESC:Events for Norwalk Democratic Town Committee
BEGIN:VTIMEZONE
TZID:America/New_York
BEGIN:DAYLIGHT
TZOFFSETFROM:-0500
TZOFFSETTO:-0400
TZNAME:EDT
DTSTART:20250309T070000
END:DAYLIGHT
BEGIN:STANDARD
TZOFFSETFROM:-0400
TZOFFSETTO:-0500
TZNAME:EST
DTSTART:20251102T060000
END:STANDARD
END:VTIMEZONE
BEGIN:VEVENT
DTSTART;TZID=America/New_York:20250602T100000
DTEND;TZID=America/New_York:20250602T113000
DTSTAMP:20260421T105009
CREATED:20250529T090050Z
LAST-MODIFIED:20250529T090050Z
UID:2068-1748858400-1748863800@www.norwalkdemocraticparty.com
SUMMARY:Voter Education Series Hosted by Registrars of Voters
DESCRIPTION:This will be a nonpartisan event to demo our new voting tabulators and hear about some of our community engagement efforts. We also want to ensure that we are here to support you with any questions or resources needed. RSVP Required to dpaladino@norwalkct.gov \nThe event will be held at City Hall in the first floor lounge (make a left down the first hallway). If you get lost\, just pop into our office-Room 103 and our staff will direct you. \nRSVP Required to dpaladino@norwalkct.gov \n10:00 am – Welcome and tabulator demo \n10:30 am – Redistricting \n11:00 am – Early Voting and Absentee Ballots \n11:15 am – Q&A \nRSVP Required to dpaladino@norwalkct.gov
URL:https://www.norwalkdemocraticparty.com/event/voter-education-series-hosted-by-registrars-of-voters/
ATTACH;FMTTYPE=image/png:https://www.norwalkdemocraticparty.com/wp-content/uploads/2025/05/image001.png
END:VEVENT
END:VCALENDAR